Package: signeR Version: 2.2.1 Command: /Library/Frameworks/R.framework/Resources/bin/R CMD build --keep-empty-dirs --no-resave-data signeR StartedAt: 2023-10-15 21:20:50 -0400 (Sun, 15 Oct 2023) EndedAt: 2023-10-15 21:33:11 -0400 (Sun, 15 Oct 2023) EllapsedTime: 741.3 seconds RetCode: 0 Status: OK PackageFile: signeR_2.2.1.tar.gz PackageFileSize: 3.998 MiB