Package: signatureSearch Version: 1.14.0 Command: rm -rf signatureSearch.buildbin-libdir && mkdir signatureSearch.buildbin-libdir && /Users/biocbuild/BBS/utils/build-universal.sh signatureSearch_1.14.0.tar.gz /Library/Frameworks/R.framework/Resources/bin/R signatureSearch.buildbin-libdir StartedAt: 2023-10-16 10:13:53 -0400 (Mon, 16 Oct 2023) EndedAt: 2023-10-16 10:20:07 -0400 (Mon, 16 Oct 2023) EllapsedTime: 374.0 seconds RetCode: 0 Status: OK PackageFile: signatureSearch_1.14.0.tgz PackageFileSize: 87.77 MiB