Package: siggenes Version: 1.74.0 Command: chmod a+r siggenes -R && F:\biocbuild\bbs-3.17-bioc\R\bin\R.exe CMD build --keep-empty-dirs --no-resave-data siggenes StartedAt: 2023-10-15 22:23:34 -0400 (Sun, 15 Oct 2023) EndedAt: 2023-10-15 22:24:24 -0400 (Sun, 15 Oct 2023) EllapsedTime: 50.0 seconds RetCode: 0 Status: OK PackageFile: siggenes_1.74.0.tar.gz PackageFileSize: 517 KiB