Package: siggenes Version: 1.74.0 Command: rm -rf siggenes.buildbin-libdir && mkdir siggenes.buildbin-libdir && /Users/biocbuild/BBS/utils/build-universal.sh siggenes_1.74.0.tar.gz /Library/Frameworks/R.framework/Resources/bin/R siggenes.buildbin-libdir StartedAt: 2023-10-16 10:13:50 -0400 (Mon, 16 Oct 2023) EndedAt: 2023-10-16 10:14:36 -0400 (Mon, 16 Oct 2023) EllapsedTime: 45.6 seconds RetCode: 0 Status: OK PackageFile: siggenes_1.74.0.tgz PackageFileSize: 1.223 MiB