Package: sigPathway Version: 1.68.0 Command: F:\biocbuild\bbs-3.17-bioc\R\bin\R.exe CMD INSTALL sigPathway StartedAt: 2023-10-15 15:50:58 -0400 (Sun, 15 Oct 2023) EndedAt: 2023-10-15 15:51:06 -0400 (Sun, 15 Oct 2023) EllapsedTime: 7.3 seconds RetCode: 1 Status: ERROR