Package: sigPathway Version: 1.68.0 Command: /Library/Frameworks/R.framework/Resources/bin/R CMD INSTALL sigPathway StartedAt: 2023-10-15 15:06:50 -0400 (Sun, 15 Oct 2023) EndedAt: 2023-10-15 15:07:13 -0400 (Sun, 15 Oct 2023) EllapsedTime: 23.3 seconds RetCode: 1 Status: ERROR