Package: sigFeature Version: 1.18.0 Command: chmod a+r sigFeature -R && F:\biocbuild\bbs-3.17-bioc\R\bin\R.exe CMD build --keep-empty-dirs --no-resave-data sigFeature StartedAt: 2023-10-15 22:23:03 -0400 (Sun, 15 Oct 2023) EndedAt: 2023-10-15 22:23:44 -0400 (Sun, 15 Oct 2023) EllapsedTime: 40.4 seconds RetCode: 0 Status: OK PackageFile: sigFeature_1.18.0.tar.gz PackageFileSize: 263.7 KiB