Package: sigFeature Version: 1.18.0 Command: /Library/Frameworks/R.framework/Resources/bin/R CMD INSTALL sigFeature StartedAt: 2023-10-15 16:19:44 -0400 (Sun, 15 Oct 2023) EndedAt: 2023-10-15 16:20:59 -0400 (Sun, 15 Oct 2023) EllapsedTime: 74.9 seconds RetCode: 0 Status: OK