Package: sigFeature Version: 1.18.0 Command: /Library/Frameworks/R.framework/Resources/bin/R CMD build --keep-empty-dirs --no-resave-data sigFeature StartedAt: 2023-10-15 21:20:03 -0400 (Sun, 15 Oct 2023) EndedAt: 2023-10-15 21:21:46 -0400 (Sun, 15 Oct 2023) EllapsedTime: 103.0 seconds RetCode: 0 Status: OK PackageFile: sigFeature_1.18.0.tar.gz PackageFileSize: 354.4 KiB