Package: sigFeature Version: 1.18.0 Command: rm -rf sigFeature.buildbin-libdir && mkdir sigFeature.buildbin-libdir && /Users/biocbuild/BBS/utils/build-universal.sh sigFeature_1.18.0.tar.gz /Library/Frameworks/R.framework/Resources/bin/R sigFeature.buildbin-libdir StartedAt: 2023-10-16 10:13:42 -0400 (Mon, 16 Oct 2023) EndedAt: 2023-10-16 10:15:01 -0400 (Mon, 16 Oct 2023) EllapsedTime: 79.4 seconds RetCode: 0 Status: OK PackageFile: sigFeature_1.18.0.tgz PackageFileSize: 485.8 KiB