Package: shinyepico Version: 1.8.0 Command: /home/biocbuild/bbs-3.17-bioc/R/bin/R CMD build --keep-empty-dirs --no-resave-data shinyepico StartedAt: 2023-10-15 18:31:46 -0400 (Sun, 15 Oct 2023) EndedAt: 2023-10-15 18:31:55 -0400 (Sun, 15 Oct 2023) EllapsedTime: 9.0 seconds RetCode: 0 Status: OK PackageFile: shinyepico_1.8.0.tar.gz PackageFileSize: 2.248 MiB