Package: shinyMethyl Version: 1.36.1 Command: /home/biocbuild/bbs-3.17-bioc/R/bin/R CMD INSTALL shinyMethyl StartedAt: 2023-10-15 15:46:11 -0400 (Sun, 15 Oct 2023) EndedAt: 2023-10-15 15:46:57 -0400 (Sun, 15 Oct 2023) EllapsedTime: 45.1 seconds RetCode: 0 Status: OK