Package: shinyMethyl Version: 1.36.1 Command: /home/biocbuild/bbs-3.17-bioc/R/bin/R CMD check --install=check:shinyMethyl.install-out.txt --library=/home/biocbuild/bbs-3.17-bioc/R/site-library --timings shinyMethyl_1.36.1.tar.gz StartedAt: 2023-10-16 01:05:34 -0400 (Mon, 16 Oct 2023) EndedAt: 2023-10-16 01:11:52 -0400 (Mon, 16 Oct 2023) EllapsedTime: 377.8 seconds RetCode: 0 Status: OK CheckDir: shinyMethyl.Rcheck Warnings: 0