Package: shinyMethyl Version: 1.36.1 Command: /home/biocbuild/bbs-3.17-bioc/R/bin/R CMD build --keep-empty-dirs --no-resave-data shinyMethyl StartedAt: 2023-10-15 18:31:55 -0400 (Sun, 15 Oct 2023) EndedAt: 2023-10-15 18:33:02 -0400 (Sun, 15 Oct 2023) EllapsedTime: 67.3 seconds RetCode: 0 Status: OK PackageFile: shinyMethyl_1.36.1.tar.gz PackageFileSize: 7.24 MiB