Package: shinyMethyl Version: 1.36.1 Command: /Library/Frameworks/R.framework/Resources/bin/R CMD build --keep-empty-dirs --no-resave-data shinyMethyl StartedAt: 2023-10-15 21:19:05 -0400 (Sun, 15 Oct 2023) EndedAt: 2023-10-15 21:22:26 -0400 (Sun, 15 Oct 2023) EllapsedTime: 200.9 seconds RetCode: 0 Status: OK PackageFile: shinyMethyl_1.36.1.tar.gz PackageFileSize: 7.24 MiB