Package: sevenbridges Version: 1.30.0 Command: F:\biocbuild\bbs-3.17-bioc\R\bin\R.exe CMD check --no-multiarch --install=check:sevenbridges.install-out.txt --library=F:\biocbuild\bbs-3.17-bioc\R\library --no-vignettes --timings sevenbridges_1.30.0.tar.gz StartedAt: 2023-10-16 06:47:43 -0400 (Mon, 16 Oct 2023) EndedAt: 2023-10-16 06:50:53 -0400 (Mon, 16 Oct 2023) EllapsedTime: 189.6 seconds RetCode: 0 Status: OK CheckDir: sevenbridges.Rcheck Warnings: 0