Package: sevenbridges Version: 1.30.0 Command: rm -rf sevenbridges.buildbin-libdir && mkdir sevenbridges.buildbin-libdir && F:\biocbuild\bbs-3.17-bioc\R\bin\R.exe CMD INSTALL --build --library=sevenbridges.buildbin-libdir sevenbridges_1.30.0.tar.gz StartedAt: 2023-10-16 09:31:58 -0400 (Mon, 16 Oct 2023) EndedAt: 2023-10-16 09:32:52 -0400 (Mon, 16 Oct 2023) EllapsedTime: 53.5 seconds RetCode: 0 Status: OK PackageFile: sevenbridges_1.30.0.zip PackageFileSize: 5.891 MiB