Package: sevenbridges Version: 1.30.0 Command: /home/biocbuild/bbs-3.17-bioc/R/bin/R CMD build --keep-empty-dirs --no-resave-data sevenbridges StartedAt: 2023-10-15 18:31:32 -0400 (Sun, 15 Oct 2023) EndedAt: 2023-10-15 18:32:54 -0400 (Sun, 15 Oct 2023) EllapsedTime: 82.0 seconds RetCode: 0 Status: OK PackageFile: sevenbridges_1.30.0.tar.gz PackageFileSize: 4.656 MiB