Package: sevenbridges Version: 1.30.0 Command: /Library/Frameworks/R.framework/Resources/bin/R CMD check --install=check:sevenbridges.install-out.txt --library=/Library/Frameworks/R.framework/Resources/library --no-vignettes --timings sevenbridges_1.30.0.tar.gz StartedAt: 2023-10-16 07:03:16 -0400 (Mon, 16 Oct 2023) EndedAt: 2023-10-16 07:10:45 -0400 (Mon, 16 Oct 2023) EllapsedTime: 449.0 seconds RetCode: 0 Status: OK CheckDir: sevenbridges.Rcheck Warnings: 0