Package: sevenbridges Version: 1.30.0 Command: /Library/Frameworks/R.framework/Resources/bin/R CMD build --keep-empty-dirs --no-resave-data sevenbridges StartedAt: 2023-10-15 21:17:46 -0400 (Sun, 15 Oct 2023) EndedAt: 2023-10-15 21:22:43 -0400 (Sun, 15 Oct 2023) EllapsedTime: 296.2 seconds RetCode: 0 Status: OK PackageFile: sevenbridges_1.30.0.tar.gz PackageFileSize: 4.656 MiB