Package: sevenbridges Version: 1.30.0 Command: rm -rf sevenbridges.buildbin-libdir && mkdir sevenbridges.buildbin-libdir && /Users/biocbuild/BBS/utils/build-universal.sh sevenbridges_1.30.0.tar.gz /Library/Frameworks/R.framework/Resources/bin/R sevenbridges.buildbin-libdir StartedAt: 2023-10-16 10:13:02 -0400 (Mon, 16 Oct 2023) EndedAt: 2023-10-16 10:14:48 -0400 (Mon, 16 Oct 2023) EllapsedTime: 106.1 seconds RetCode: 0 Status: OK PackageFile: sevenbridges_1.30.0.tgz PackageFileSize: 5.847 MiB