Package: sevenC Version: 1.20.0 Command: chmod a+r sevenC -R && F:\biocbuild\bbs-3.17-bioc\R\bin\R.exe CMD build --keep-empty-dirs --no-resave-data sevenC StartedAt: 2023-10-15 22:21:17 -0400 (Sun, 15 Oct 2023) EndedAt: 2023-10-15 22:22:56 -0400 (Sun, 15 Oct 2023) EllapsedTime: 98.3 seconds RetCode: 0 Status: OK PackageFile: sevenC_1.20.0.tar.gz PackageFileSize: 1.921 MiB