Package: sevenC Version: 1.20.0 Command: rm -rf sevenC.buildbin-libdir && mkdir sevenC.buildbin-libdir && F:\biocbuild\bbs-3.17-bioc\R\bin\R.exe CMD INSTALL --build --library=sevenC.buildbin-libdir sevenC_1.20.0.tar.gz StartedAt: 2023-10-16 09:32:00 -0400 (Mon, 16 Oct 2023) EndedAt: 2023-10-16 09:32:28 -0400 (Mon, 16 Oct 2023) EllapsedTime: 28.0 seconds RetCode: 0 Status: OK PackageFile: sevenC_1.20.0.zip PackageFileSize: 2.031 MiB