Package: sevenC Version: 1.20.0 Command: /home/biocbuild/bbs-3.17-bioc/R/bin/R CMD INSTALL sevenC StartedAt: 2023-10-15 15:19:01 -0400 (Sun, 15 Oct 2023) EndedAt: 2023-10-15 15:19:21 -0400 (Sun, 15 Oct 2023) EllapsedTime: 20.1 seconds RetCode: 0 Status: OK