Package: sevenC Version: 1.20.0 Command: /home/biocbuild/bbs-3.17-bioc/R/bin/R CMD check --install=check:sevenC.install-out.txt --library=/home/biocbuild/bbs-3.17-bioc/R/site-library --timings sevenC_1.20.0.tar.gz StartedAt: 2023-10-16 01:03:55 -0400 (Mon, 16 Oct 2023) EndedAt: 2023-10-16 01:08:02 -0400 (Mon, 16 Oct 2023) EllapsedTime: 246.6 seconds RetCode: 0 Status: OK CheckDir: sevenC.Rcheck Warnings: 0