Package: sevenC Version: 1.20.0 Command: /Library/Frameworks/R.framework/Resources/bin/R CMD INSTALL sevenC StartedAt: 2023-10-15 15:28:41 -0400 (Sun, 15 Oct 2023) EndedAt: 2023-10-15 15:29:48 -0400 (Sun, 15 Oct 2023) EllapsedTime: 67.0 seconds RetCode: 0 Status: OK