Package: sevenC Version: 1.20.0 Command: /Library/Frameworks/R.framework/Resources/bin/R CMD check --install=check:sevenC.install-out.txt --library=/Library/Frameworks/R.framework/Resources/library --no-vignettes --timings sevenC_1.20.0.tar.gz StartedAt: 2023-10-16 07:03:22 -0400 (Mon, 16 Oct 2023) EndedAt: 2023-10-16 07:11:27 -0400 (Mon, 16 Oct 2023) EllapsedTime: 485.2 seconds RetCode: 0 Status: OK CheckDir: sevenC.Rcheck Warnings: 0