Package: sevenC Version: 1.20.0 Command: /Library/Frameworks/R.framework/Resources/bin/R CMD build --keep-empty-dirs --no-resave-data sevenC StartedAt: 2023-10-15 21:17:50 -0400 (Sun, 15 Oct 2023) EndedAt: 2023-10-15 21:22:20 -0400 (Sun, 15 Oct 2023) EllapsedTime: 270.6 seconds RetCode: 0 Status: OK PackageFile: sevenC_1.20.0.tar.gz PackageFileSize: 1.932 MiB