Package: sesame Version: 1.18.4 Command: F:\biocbuild\bbs-3.17-bioc\R\bin\R.exe CMD INSTALL sesame StartedAt: 2023-10-15 17:04:42 -0400 (Sun, 15 Oct 2023) EndedAt: 2023-10-15 17:05:32 -0400 (Sun, 15 Oct 2023) EllapsedTime: 50.0 seconds RetCode: 0 Status: OK