Package: sesame Version: 1.18.4 Command: F:\biocbuild\bbs-3.17-bioc\R\bin\R.exe CMD check --no-multiarch --install=check:sesame.install-out.txt --library=F:\biocbuild\bbs-3.17-bioc\R\library --no-vignettes --timings sesame_1.18.4.tar.gz StartedAt: 2023-10-16 06:47:33 -0400 (Mon, 16 Oct 2023) EndedAt: 2023-10-16 07:05:44 -0400 (Mon, 16 Oct 2023) EllapsedTime: 1091.2 seconds RetCode: 0 Status: WARNINGS CheckDir: sesame.Rcheck Warnings: 1