Package: sesame Version: 1.18.4 Command: chmod a+r sesame -R && F:\biocbuild\bbs-3.17-bioc\R\bin\R.exe CMD build --keep-empty-dirs --no-resave-data sesame StartedAt: 2023-10-15 22:20:34 -0400 (Sun, 15 Oct 2023) EndedAt: 2023-10-15 22:26:35 -0400 (Sun, 15 Oct 2023) EllapsedTime: 361.6 seconds RetCode: 0 Status: OK PackageFile: sesame_1.18.4.tar.gz PackageFileSize: 18.37 MiB