Package: sesame Version: 1.18.4 Command: rm -rf sesame.buildbin-libdir && mkdir sesame.buildbin-libdir && F:\biocbuild\bbs-3.17-bioc\R\bin\R.exe CMD INSTALL --build --library=sesame.buildbin-libdir sesame_1.18.4.tar.gz StartedAt: 2023-10-16 09:31:55 -0400 (Mon, 16 Oct 2023) EndedAt: 2023-10-16 09:32:57 -0400 (Mon, 16 Oct 2023) EllapsedTime: 62.4 seconds RetCode: 0 Status: OK PackageFile: sesame_1.18.4.zip PackageFileSize: 19.03 MiB