Package: sesame Version: 1.18.4 Command: /home/biocbuild/bbs-3.17-bioc/R/bin/R CMD build --keep-empty-dirs --no-resave-data sesame StartedAt: 2023-10-15 18:31:25 -0400 (Sun, 15 Oct 2023) EndedAt: 2023-10-15 18:35:35 -0400 (Sun, 15 Oct 2023) EllapsedTime: 250.5 seconds RetCode: 0 Status: OK PackageFile: sesame_1.18.4.tar.gz PackageFileSize: 18.59 MiB