Package: sesame Version: 1.18.4 Command: /Library/Frameworks/R.framework/Resources/bin/R CMD INSTALL sesame StartedAt: 2023-10-15 16:32:33 -0400 (Sun, 15 Oct 2023) EndedAt: 2023-10-15 16:34:26 -0400 (Sun, 15 Oct 2023) EllapsedTime: 112.7 seconds RetCode: 0 Status: OK