Package: sesame Version: 1.18.4 Command: rm -rf sesame.buildbin-libdir && mkdir sesame.buildbin-libdir && /Users/biocbuild/BBS/utils/build-universal.sh sesame_1.18.4.tar.gz /Library/Frameworks/R.framework/Resources/bin/R sesame.buildbin-libdir StartedAt: 2023-10-16 10:12:56 -0400 (Mon, 16 Oct 2023) EndedAt: 2023-10-16 10:15:12 -0400 (Mon, 16 Oct 2023) EllapsedTime: 135.8 seconds RetCode: 0 Status: OK PackageFile: sesame_1.18.4.tgz PackageFileSize: 19.23 MiB