git_url: https://git.bioconductor.org/packages/sesame git_branch: RELEASE_3_17 git_last_commit: eba556b git_last_commit_date: 2023-05-04 15:22:47 -0400 (Thu, 04 May 2023) Package: sesame Version: 1.18.4 Maintainer: Wanding Zhou MaintainerEmail: zhouwanding at gmail.com