Package: seqsetvis Version: 1.20.0 Command: /home/biocbuild/bbs-3.17-bioc/R/bin/R CMD build --keep-empty-dirs --no-resave-data seqsetvis StartedAt: 2023-10-15 18:31:04 -0400 (Sun, 15 Oct 2023) EndedAt: 2023-10-15 18:32:24 -0400 (Sun, 15 Oct 2023) EllapsedTime: 79.3 seconds RetCode: 0 Status: OK PackageFile: seqsetvis_1.20.0.tar.gz PackageFileSize: 1.736 MiB