Package: seqsetvis Version: 1.20.0 Command: rm -rf seqsetvis.buildbin-libdir && mkdir seqsetvis.buildbin-libdir && /Users/biocbuild/BBS/utils/build-universal.sh seqsetvis_1.20.0.tar.gz /Library/Frameworks/R.framework/Resources/bin/R seqsetvis.buildbin-libdir StartedAt: 2023-10-16 10:12:53 -0400 (Mon, 16 Oct 2023) EndedAt: 2023-10-16 10:14:58 -0400 (Mon, 16 Oct 2023) EllapsedTime: 125.2 seconds RetCode: 0 Status: OK PackageFile: seqsetvis_1.20.0.tgz PackageFileSize: 2.179 MiB