Package: seqcombo Version: 1.22.0 Command: /home/biocbuild/bbs-3.17-bioc/R/bin/R CMD INSTALL seqcombo StartedAt: 2023-10-15 15:18:30 -0400 (Sun, 15 Oct 2023) EndedAt: 2023-10-15 15:18:36 -0400 (Sun, 15 Oct 2023) EllapsedTime: 6.1 seconds RetCode: 0 Status: OK