Package: seqcombo Version: 1.22.0 Command: /home/biocbuild/bbs-3.17-bioc/R/bin/R CMD check --install=check:seqcombo.install-out.txt --library=/home/biocbuild/bbs-3.17-bioc/R/site-library --timings seqcombo_1.22.0.tar.gz StartedAt: 2023-10-16 01:02:42 -0400 (Mon, 16 Oct 2023) EndedAt: 2023-10-16 01:03:19 -0400 (Mon, 16 Oct 2023) EllapsedTime: 36.9 seconds RetCode: 0 Status: OK CheckDir: seqcombo.Rcheck Warnings: 0