Package: seqcombo Version: 1.22.0 Command: rm -rf seqcombo.buildbin-libdir && mkdir seqcombo.buildbin-libdir && /Users/biocbuild/BBS/utils/build-universal.sh seqcombo_1.22.0.tar.gz /Library/Frameworks/R.framework/Resources/bin/R seqcombo.buildbin-libdir StartedAt: 2023-10-16 10:12:37 -0400 (Mon, 16 Oct 2023) EndedAt: 2023-10-16 10:12:53 -0400 (Mon, 16 Oct 2023) EllapsedTime: 15.8 seconds RetCode: 0 Status: OK PackageFile: seqcombo_1.22.0.tgz PackageFileSize: 672.4 KiB