Package: seqbias Version: 1.48.0 Command: chmod a+r seqbias -R && F:\biocbuild\bbs-3.17-bioc\R\bin\R.exe CMD build --keep-empty-dirs --no-resave-data seqbias StartedAt: 2023-10-15 22:18:36 -0400 (Sun, 15 Oct 2023) EndedAt: 2023-10-15 22:19:40 -0400 (Sun, 15 Oct 2023) EllapsedTime: 64.4 seconds RetCode: 0 Status: OK PackageFile: seqbias_1.48.0.tar.gz PackageFileSize: 889.2 KiB