Package: seqbias Version: 1.48.0 Command: rm -rf seqbias.buildbin-libdir && mkdir seqbias.buildbin-libdir && F:\biocbuild\bbs-3.17-bioc\R\bin\R.exe CMD INSTALL --build --library=seqbias.buildbin-libdir seqbias_1.48.0.tar.gz StartedAt: 2023-10-16 09:31:25 -0400 (Mon, 16 Oct 2023) EndedAt: 2023-10-16 09:32:00 -0400 (Mon, 16 Oct 2023) EllapsedTime: 35.1 seconds RetCode: 0 Status: OK PackageFile: seqbias_1.48.0.zip PackageFileSize: 5.032 MiB