Package: seqbias Version: 1.48.0 Command: /home/biocbuild/bbs-3.17-bioc/R/bin/R CMD check --install=check:seqbias.install-out.txt --library=/home/biocbuild/bbs-3.17-bioc/R/site-library --timings seqbias_1.48.0.tar.gz StartedAt: 2023-10-16 01:01:51 -0400 (Mon, 16 Oct 2023) EndedAt: 2023-10-16 01:02:58 -0400 (Mon, 16 Oct 2023) EllapsedTime: 67.0 seconds RetCode: 0 Status: WARNINGS CheckDir: seqbias.Rcheck Warnings: 2