Package: seqbias Version: 1.48.0 Command: /home/biocbuild/bbs-3.17-bioc/R/bin/R CMD build --keep-empty-dirs --no-resave-data seqbias StartedAt: 2023-10-15 18:30:09 -0400 (Sun, 15 Oct 2023) EndedAt: 2023-10-15 18:31:11 -0400 (Sun, 15 Oct 2023) EllapsedTime: 62.5 seconds RetCode: 0 Status: OK PackageFile: seqbias_1.48.0.tar.gz PackageFileSize: 701.2 KiB