Package: seqbias Version: 1.48.0 Command: /Library/Frameworks/R.framework/Resources/bin/R CMD INSTALL seqbias StartedAt: 2023-10-15 15:18:23 -0400 (Sun, 15 Oct 2023) EndedAt: 2023-10-15 15:18:50 -0400 (Sun, 15 Oct 2023) EllapsedTime: 27.5 seconds RetCode: 1 Status: ERROR