Package: seqbias Version: 1.47.0 Command: rm -rf seqbias.buildbin-libdir && mkdir seqbias.buildbin-libdir && /Users/biocbuild/BBS/utils/build-universal.sh seqbias_1.47.0.tar.gz /Library/Frameworks/R.framework/Resources/bin/R seqbias.buildbin-libdir StartedAt: 2023-03-16 09:56:57 -0400 (Thu, 16 Mar 2023) EndedAt: 2023-03-16 09:59:49 -0400 (Thu, 16 Mar 2023) EllapsedTime: 172.6 seconds RetCode: 0 Status: OK PackageFile: seqbias_1.47.0.tgz PackageFileSize: 1.216 MiB