Package: seqTools Version: 1.34.0 Command: /home/biocbuild/bbs-3.17-bioc/R/bin/R CMD check --install=check:seqTools.install-out.txt --library=/home/biocbuild/bbs-3.17-bioc/R/site-library --timings seqTools_1.34.0.tar.gz StartedAt: 2023-10-16 01:03:19 -0400 (Mon, 16 Oct 2023) EndedAt: 2023-10-16 01:03:47 -0400 (Mon, 16 Oct 2023) EllapsedTime: 28.0 seconds RetCode: 0 Status: WARNINGS CheckDir: seqTools.Rcheck Warnings: 3