Package: seqTools Version: 1.34.0 Command: /Library/Frameworks/R.framework/Resources/bin/R CMD INSTALL seqTools StartedAt: 2023-10-15 15:03:46 -0400 (Sun, 15 Oct 2023) EndedAt: 2023-10-15 15:04:12 -0400 (Sun, 15 Oct 2023) EllapsedTime: 25.9 seconds RetCode: 0 Status: OK