Package: seqTools Version: 1.34.0 Command: /Library/Frameworks/R.framework/Resources/bin/R CMD check --install=check:seqTools.install-out.txt --library=/Library/Frameworks/R.framework/Resources/library --no-vignettes --timings seqTools_1.34.0.tar.gz StartedAt: 2023-10-16 07:01:42 -0400 (Mon, 16 Oct 2023) EndedAt: 2023-10-16 07:02:41 -0400 (Mon, 16 Oct 2023) EllapsedTime: 59.3 seconds RetCode: 0 Status: WARNINGS CheckDir: seqTools.Rcheck Warnings: 3